BEGIN:VCALENDAR
VERSION:2.0
PRODID:-//NCRCC - ECPv6.15.20//NONSGML v1.0//EN
CALSCALE:GREGORIAN
METHOD:PUBLISH
X-WR-CALNAME:NCRCC
X-ORIGINAL-URL:https://nyegop.org
X-WR-CALDESC:Events for NCRCC
REFRESH-INTERVAL;VALUE=DURATION:PT1H
X-Robots-Tag:noindex
X-PUBLISHED-TTL:PT1H
BEGIN:VTIMEZONE
TZID:America/Los_Angeles
BEGIN:DAYLIGHT
TZOFFSETFROM:-0800
TZOFFSETTO:-0700
TZNAME:PDT
DTSTART:20250309T100000
END:DAYLIGHT
BEGIN:STANDARD
TZOFFSETFROM:-0700
TZOFFSETTO:-0800
TZNAME:PST
DTSTART:20251102T090000
END:STANDARD
BEGIN:DAYLIGHT
TZOFFSETFROM:-0800
TZOFFSETTO:-0700
TZNAME:PDT
DTSTART:20260308T100000
END:DAYLIGHT
BEGIN:STANDARD
TZOFFSETFROM:-0700
TZOFFSETTO:-0800
TZNAME:PST
DTSTART:20261101T090000
END:STANDARD
BEGIN:DAYLIGHT
TZOFFSETFROM:-0800
TZOFFSETTO:-0700
TZNAME:PDT
DTSTART:20270314T100000
END:DAYLIGHT
BEGIN:STANDARD
TZOFFSETFROM:-0700
TZOFFSETTO:-0800
TZNAME:PST
DTSTART:20271107T090000
END:STANDARD
END:VTIMEZONE
BEGIN:VEVENT
DTSTART;TZID=America/Los_Angeles:20260314T090000
DTEND;TZID=America/Los_Angeles:20260314T170000
DTSTAMP:20260420T055313
CREATED:20260206T015002Z
LAST-MODIFIED:20260206T041004Z
UID:4202-1773478800-1773507600@nyegop.org
SUMMARY:Precinct Meeting & County Convention
DESCRIPTION:Join fellow community members and local Republicans for our Precinct Meeting and County Convention – an important step in shaping the direction of our party at the grassroots level. Precinct meetings provide an opportunity to discuss local issues\, propose resolutions\, and elect delegates to represent your precinct. The County Convention brings those voices together to set priorities\, conduct party business\, and select delegates for the state convention. Your participation ensures local concerns are heard and that leadership reflects the will of the voters. All registered Republicans are encouraged to attend and take part in the process.
URL:https://nyegop.org/event/precinct-meeting-county-convention/
LOCATION:Nevada Treasures RV Resort\, 301 W Leslie\, Pahrump\, NV\, 89060\, United States
CATEGORIES:County Convention,Precinct Meeting
ATTACH;FMTTYPE=image/png:https://nyegop.org/wp-content/uploads/2026/02/image-1.png
END:VEVENT
BEGIN:VEVENT
DTSTART;TZID=America/Los_Angeles:20260228T170000
DTEND;TZID=America/Los_Angeles:20260228T210000
DTSTAMP:20260420T055313
CREATED:20260203T235833Z
LAST-MODIFIED:20260221T231643Z
UID:4193-1772298000-1772312400@nyegop.org
SUMMARY:NYE COUNTY LINCOLN DAY DINNER
DESCRIPTION:Buy Tickets Online Here
URL:https://nyegop.org/event/nye-county-lincoln-day-dinner/
LOCATION:Pahrump Nugget Casinio\, 681 S Nevada Hwy 160\, Pahrump\, NV\, 89048
CATEGORIES:Events,Lincoln Dinner,Pahrump,Special Event Fund Raiser
ATTACH;FMTTYPE=image/png:https://nyegop.org/wp-content/uploads/2026/02/image.png
END:VEVENT
END:VCALENDAR