BEGIN:VCALENDAR
VERSION:2.0
PRODID:-//NCRCC - ECPv6.15.20//NONSGML v1.0//EN
CALSCALE:GREGORIAN
METHOD:PUBLISH
X-ORIGINAL-URL:https://nyegop.org
X-WR-CALDESC:Events for NCRCC
REFRESH-INTERVAL;VALUE=DURATION:PT1H
X-Robots-Tag:noindex
X-PUBLISHED-TTL:PT1H
BEGIN:VTIMEZONE
TZID:America/Los_Angeles
BEGIN:DAYLIGHT
TZOFFSETFROM:-0800
TZOFFSETTO:-0700
TZNAME:PDT
DTSTART:20240310T100000
END:DAYLIGHT
BEGIN:STANDARD
TZOFFSETFROM:-0700
TZOFFSETTO:-0800
TZNAME:PST
DTSTART:20241103T090000
END:STANDARD
BEGIN:DAYLIGHT
TZOFFSETFROM:-0800
TZOFFSETTO:-0700
TZNAME:PDT
DTSTART:20250309T100000
END:DAYLIGHT
BEGIN:STANDARD
TZOFFSETFROM:-0700
TZOFFSETTO:-0800
TZNAME:PST
DTSTART:20251102T090000
END:STANDARD
BEGIN:DAYLIGHT
TZOFFSETFROM:-0800
TZOFFSETTO:-0700
TZNAME:PDT
DTSTART:20260308T100000
END:DAYLIGHT
BEGIN:STANDARD
TZOFFSETFROM:-0700
TZOFFSETTO:-0800
TZNAME:PST
DTSTART:20261101T090000
END:STANDARD
BEGIN:DAYLIGHT
TZOFFSETFROM:-0800
TZOFFSETTO:-0700
TZNAME:PDT
DTSTART:20270314T100000
END:DAYLIGHT
BEGIN:STANDARD
TZOFFSETFROM:-0700
TZOFFSETTO:-0800
TZNAME:PST
DTSTART:20271107T090000
END:STANDARD
END:VTIMEZONE
BEGIN:VEVENT
DTSTART;TZID=America/Los_Angeles:20250820T080000
DTEND;TZID=America/Los_Angeles:20260930T170000
DTSTAMP:20260420T194229
CREATED:20250821T034544Z
LAST-MODIFIED:20250822T042733Z
UID:4163-1755676800-1790787600@nyegop.org
SUMMARY:Membership Dues
DESCRIPTION:Please use this form to submit payment.Reminder: You may also volunteer in leu of payment.
URL:https://nyegop.org/event/membership-dues/
LOCATION:Nevada
CATEGORIES:Membership Dues
ATTACH;FMTTYPE=image/png:https://nyegop.org/wp-content/uploads/2025/08/create-a-highly-detailed-and-sharp-focused-image-depicting-a-membership-1.png
END:VEVENT
BEGIN:VEVENT
DTSTART;TZID=America/Los_Angeles:20260411T100000
DTEND;TZID=America/Los_Angeles:20260411T130000
DTSTAMP:20260420T194229
CREATED:20260221T220351Z
LAST-MODIFIED:20260221T220354Z
UID:4088-1775901600-1775912400@nyegop.org
SUMMARY:NCRP Monthly Meeting
DESCRIPTION:No regular meeting in March due to Precinct Meeting & County Convention \n\n\n\nDoors open at 9 AM. Hope to see you there!
URL:https://nyegop.org/event/ncrp-monthly-meeting/
LOCATION:NCRP Office\, 4760 Pahrump Valley Blvd. Ste 9 & 10\, Pahrump\, Nevada\, 89048
CATEGORIES:Events,NCRCC monthly meetings
ATTACH;FMTTYPE=image/png:https://nyegop.org/wp-content/uploads/2024/10/create-a-highly-detailed-and-sharp-focused-image-for-a-blog.png
END:VEVENT
END:VCALENDAR